Workbook
Name __MAIN__: #REF!
Name К_т: #REF!
Name Ост.на.кон: #REF!

Sheet Содержание
B1: Важно! Данный файл является собственностью ОАО "Национальный инвестиционный фонд Кыргызской Республики" (далее - НИФ). Его копирование, модификация или передача третьим лицам без разрешения НИФ строго запрещены. Нарушение данных условий может повлечь за собой юридическую ответственность в соответствии с законодательством Кыргызской Республики.
B2: Этот файл используется для подачи заявки на финансирование в НИФ и содержит автоматизированные функции для удобства заполнения. Необходимо заполнить все листы, включая основные данные и отчеты. Убедитесь, что вся информация введена корректно и полностью.
B3: Содержание файла:
B4: 1. Содержание
B5: 2. Заявка
B6: 2. Анкета (Приложение №1)
B7: 3. Баланс (Приложение №2)
B8: 3. Отчет о прибылях и убытках (Приложение №3)
B9: 4. Отчет о движении денежных средств (Приложение №4)
B10: 5. Расшифровки кредиторской и дебиторской задолженности баланса (Приложение №5)
B11: 6. Расшифровка ТМЗ и запасы вспомогательных материалов (Приложение №6)
B12: 7. Расшифровка выручки (Приложение №7)
... B14: Если у вас возникли вопросы по работе с файлом или требуется техническая поддержка, пожалуйста, свяжитесь с сотрудником ОАО "Национальный инвестиционный фонд Кыргызской Республики".

Sheet Заявка
B1: ЗАЯВКА НА ПОЛУЧЕНИЕ ИНВЕСТИЦИЙ В ОАО "НАЦИОНАЛЬНЫЙ ИНВЕСТИЦИОННЫЙ ФОНД КЫРГЫЗСКОЙ РЕСПУБЛИКЕ" (далее - НИФ)
A2: ="Настоящим "& D3&" (далее – Заявитель) направляет в Ваш адрес Заявку на предоставление инвестиций из средств ОАО Национальный инвестиционный фонд Кыргызской Республики (далее – НИФ)." -> Настоящим ОсОО "Наименование компании" (далее – Заявитель) направляет в Ваш адрес Заявку на предоставление инвестиций из средств ОАО Национальный инвестиционный фонд Кыргызской Республики (далее – НИФ).
A3: Наименование Заявителя: | D3: ОсОО "Наименование компании"
A4: Цель проекта: | D4: Производство швейно продукции
A5: ИНВЕСТИЦИИ В УСТАВНОЙ КАПИТАЛ:
A6: Цель запрашиваемого инвестиций: (согласно структуре затрат) | D6: строительство и пополнение оборотного капитала
A7: Валюта инвестиций: | D7: кыргызский сом
A8: Сумма запрашиваемого инвестиций: | D8: 500000
A9: Предлагаемые условия инвестиций в Уставной капитал: | D9: с последующим выходом НИФ и продажей Заявителю долю по окончанию срока инвестиций
A10: Предлагаемая доля в Уставном капитале (%): | D10: 0.2 | F10: Срок участия в Уставном капитале (месяцев) | I10: 60
A11: ИНФОРМАЦИЯ О ПРОЕКТЕ:
A12: Суть проекта: | D12: запуск современной швейно фабрики
A13: Место реализации проекта: | D13: Чуйская область | G13: Кеминский район, г. Кемин, ул. Ленина 55
A14: Планируемая производимая продукция по проекту: | D14: детская верхняя одежда
A15: Производственная мощность планируемого проекта в год: | D15: производство до 5000 единиц детской одежды в год
A16: Количество создаваемых рабочих мест по проекту: | D16: 100 | F16: Из них количество женщин: | I16: 90
A17: Общая стоимость проекта: (долл. США) | D17: 3000000 | F17: Из них сумма инвестиций НИФ:
A18: Доля участия Заявителя в проект: | D18: вклад в проект в виде имеющегося земельного участка, здания и текущего оборудования и инызх активов
A19: Другая информация:
A20: СОГЛАСИЕ НА ОБРАБОТКУ ПЕРСОНАЛЬНЫХ ДАННЫХ:
A21: Для проведения оценки Проекта в приложении к настоящей заявке направляем весь перечень требуемых документов, содержащую информацию о Заявителе и о Проекте. Настоящим удостоверяем, что указанная в прилагаемой Анкете Заявителя, Бизнес Плане и перечне документов информация является полной и достоверной и может быть подтверждена в случае необходимости документально. Выражаем согласие на полную проверку достоверности указанных данных. Обязуемся своевременно информировать НИФ обо всех изменениях данной информации, о существенных изменениях финансового состояния Заявителя и представлять по Вашему запросу все необходимые для подтверждения представленной информации документы, а также любую обоснованно запрошенную дополнительную информацию.
A22: ="Настоящим "&D3&" (далее - Заявитель) предоставляет НИФ свое согласие на раскрытие НИФ существенных условий предоставленного НИФ Заявителю инвестиций в целях отчетности, статистики и опубликования информации в средствах массовой информации и на сайте НИФ." -> Настоящим ОсОО "Наименование компании" (далее - Заявитель) предоставляет НИФ свое согласие на раскрытие НИФ существенных условий предоставленного НИФ Заявителю инвестиций в целях отчетности, статистики и опубликования информации в средствах массовой информации и на сайте НИФ.
A23: Настоящим Заявитель как Клиент НИФ, настоящим дает свое согласие на предоставление и/или получение уполномоченными сотрудниками НИФ любых сведений о Заявителе (включая о руководителях, собственниках и связанных компаний) в/из Кредитного бюро, осуществляющее формирование кредитных историй и их обмен между финансово-кредитными учреждениями и иными юридическими/физическими лицами, в целях снижения рисков (в том числе кредитных), недопущения перезадолженности и упрощения процедуры рассмотрения и предоставления инвестиций.
A24: К данным сведениям могут относиться сведения о Заявителе (включая о руководителях, собственниках и связанных компаний), как Клиента НИФ, сведения по финансированию (вид кредита, сумма кредита, роль субъекта, дата подачи заявления, подробные сведения об истории выплат, непогашенный остаток, сумма дефолта и общая сумма долга по данному счету, сведения о поручителях/гарантах, залогодателях и других лиц, у которых образовались или имеются обязательства перед Поставщиками информации и др. сведения), полученным мною в НИФ, сведения о мерах, предпринятых в отношении о Заявителе (включая о руководителях, собственниках и связанных компаний) в связи с неисполнением или ненадлежащим исполнением своих обязательств по кредитам и иные сведения, ставшие известными НИФ в период рассмотрения и оформления документов, в процессе выдачи и погашения кредита.
A25: При этом со стороны НИФ гарантируется строгая конфиденциальность использования всей информации, предоставленной c моей стороны.
A26: ="Также "&D3&" (включая о руководителях, собственниках и связанных компаний) ознакомлено с тем, что данный документ не влечет за собой обязательств НИФ по предоставлению инвестиций." -> Также ОсОО "Наименование компании" (включая о руководителях, собственниках и связанных компаний) ознакомлено с тем, что данный документ не влечет за собой обязательств НИФ по предоставлению инвестиций.
A28: =Анкета!B15 -> 0 | D28: =Анкета!B14 -> 0
A29: Должность | D29: ФИО | H29: подпись, печать
G31: Дата составления заявки: | H31: =NOW() -> 46135.615
B33: Перечень предоставленных документов:

Sheet Анкета
A1: АНКЕТА ЗАЯВИТЕЛЯ
A2: Заполненная анкета может быть представлена по следующему адресу: 720040, Кыргызская Республика, г. Бишкек, ул. Токтогула, 125/1, башня "А", тeл: +996 (880) 000430 или по электронной почте: office@nif.kg
A4: ИНФОРМАЦИЯ ОБ ОРГАНИЗАЦИИ
A5: Юридическое название компании: | B5: =Заявка!D3 -> ОсОО "Наименование компании" | E5: Год основания (день/м-ц/год):
A6: Организационно-правовая форма: | B6: Общество с ограниченной ответственностью | E6: Налоговый номер (ИНН):
A7: Юридический адрес: | E7: Текущий адрес:
A8: Регистрационный номер: | E8: Код ОКПО:
A9: Вид деятельности: | E9: Производимая продукция/услуга:
A10: Текущий годовой объем производимой продукции/услуги:
A11: Телефон: | E11: Мобильный:
A12: Сайт компании: | E12: e-mail:
A13: Информация о руководителе | E13: Контактное лицо, ответственное за ведение переговоров
A14: Ф.И.О. | E14: Ф.И.О.
A15: Должность: | E15: Должность:
A16: Телефон: | E16: Телефон:
A17: e-mail: | E17: e-mail:
A18: СВЕДЕНИЯ ОБ УЧРЕДИТЕЛЯХ:
A19: Внесите в список всех учредителей, приложить копии паспортов или учредительные документы
A20: Наименование | E20: Уставной капитал, сом | F20: Доля в уставном капитале | G20: Резидент (да/нет)
A24: Итого: | E24: =SUM(E21:F23) -> 0 | F24: =SUM(F21:G23) -> 0 | G24: Х
A26: СВЕДЕНИЯ ОБ ОРГАНАХ ЮРИДИЧЕСКОГО ЛИЦА (структура и персональный состав органов управления):
A27: Текущее количество сотрудников:
A28: Внесите в список всех членов органа управления, приложить резюме
A29: Наименование органа управления | B29: Ф.И.О. членов органа управления | F29: Контактные данные (телефон, e-mail)
A30: Генеральный директор
A31: Финансовый директор
A32: Технолог
A34: ИНФОРМАЦИЯ ОБ АФФИЛИРОВАННЫХ ЛИЦАХ
A35: Аффилированные лица - юридические лица, в которых Заявитель или учредитель Заявителя имеют учредительную долю более чем 20% от уставного капитала.
A36: Наименование компании | C36: Долевое участие Заявителя или учредителя Заявителя в уставном капитале Аффилированного лица | E36: Вид деятельности | G36: Прочая информация
A40: ИНФОРМАЦИЯ ОБ АФФИЛИРОВАННЫХ ЛИЦАХ*, ПОЛУЧИВШИЕ ФИНАНСИРОВАНИЕ ОТ НИФ
A41: Аффилированные лица - юридические лица, в которых Заявитель или учредитель Заявителя имеют учредительную долю более чем 20% от уставного капитала.
A42: Наименование компании | C42: Долевое участие Заявителя или учредителя Заявителя в уставном капитале Аффилированного лица | E42: Сумма полученного финансирования от ниф, сом | G42: Прочая информация
A46: ИСТОРИЯ РАЗВИТИЯ КОМПАНИИ
A47: • История образования и деятельности компании; • Количество сотрудников; • Информация об основных активах компании и источники их образования; • Информация о текущей деятельности, производственные показатели; • Доля на рынке; • Перспектива развития.
A49: ИНФОРМАЦИЯ О ПРОЕКТЕ
A50: • История создания Проекта, время и причины возникновения рыночного потенциала Проекта; • Обоснование целей проекта; • Эффект от реализации проекта; • Описание технических и экономических путей реализации Проекта, возможные альтернативы реализации Проекта; • Степень проработанности Проекта: наличие решения руководства компании о реализации проекта, перечень и степень готовности проектной документации, включая предусмотренные соответствующим национальным законодательством экспертные заключения по проекту (налоговые, юридические, экономические, технико-экономические и иные), стадии Проекта и их характеристика, план их реализации и финансирования; • Наличие разрешительных документов на строительство объекта.
A52: ПРОГНОЗИРУЕМЫЙ СОЦИАЛЬНО-ЭКОНОМИЧЕСКИЙ ЭФФЕКТ ПРОЕКТА
A53: • Создание рабочих мест; • Выплата в бюджет в виде налогов и социальных отчислений; • Мультипликативный эффект от реализации проекта; • Улучшение инвестиционной привлекательности;
A55: ВЛИЯНИЕ ПРОЕКТА НА ЭКОЛОГИЮ (окружающую среду)
...

Sheet Баланс
B1: =Заявка!D3 -> ОсОО "Наименование компании"
B2: БУХГАЛТЕРСКИЙ БАЛАНС (тыс. сом)
A3: Код строк | B3: Отчетный период: | C3: =DATE(YEAR(D3)-1,12,31) -> 44926 | D3: =DATE(YEAR(E3)-1,12,31) -> 45291 | E3: =DATE(YEAR(F3)-1,12,31) -> 45657 | F3: 46022
B4: АКТИВЫ
B5: 1. ОБОРОТНЫЕ АКТИВЫ
A6: 110 | B6: Денежные средства в кассе (1100)
A7: 120 | B7: Денежные средства в банке (1200)
A8: 130 | B8: Краткосрочные инвестиции (1300) | C8: =C10+C11+C12+C13+C14 -> 0 | D8: =D10+D11+D12+D13+D14 -> 0 | E8: =E10+E11+E12+E13+E14 -> 0 | F8: =F10+F11+F12+F13+F14 -> 0
B9: в том числе:
A10: 131 | B10: Долговые ценные бумаги (1310)
A11: 132 | B11: Долевые ценные бумаги (1320)
A12: 133 | B12: Кредиты, займы выданные, депозитные вклады (1330, 1340)
A13: 134 | B13: Текущая часть долгосрочных инвестиций (1350)
A14: 135 | B14: Прочие краткосрочные инвестиции (1390)
A15: 140 | B15: Счета к получению (1400) | C15: =C17+C18 -> 0 | D15: =D17+D18 -> 0 | E15: =E17+E18 -> 0 | F15: =F17+F18 -> 0
B16: в том числе:
A17: 141 | B17: Счета к получению за товары, услуги (1410)
A18: 142 | B18: Резерв на безнадежные делги по счетам к получению (1491)
A19: 150 | B19: Дебиторская задолженность по прочим операциям (1500) | C19: =C21+C22+C23+C24+C25+C26+C27 -> 0 | D19: =D21+D22+D23+D24+D25+D26+D27 -> 0 | E19: =E21+E22+E23+E24+E25+E26+E27 -> 0 | F19: =F21+F22+F23+F24+F25+F26+F27 -> 0
B20: в том числе:
A21: 151 | B21: Векселя к получению (1510)
A22: 152 | B22: Дебиторская задолженность сотрудников и директоров (1520)
A23: 153 | B23: Налоги оплаченные авансом (1530, 1540)
A24: 154 | B24: Проценты, дивиденды к получению (1550, 1560)
A25: 155 | B25: Задолженность заказчиков по договору на строительство (1570)
A26: 156 | B26: Текущая часть долгосрочной дебиторской задолженности (1580)
A27: 157 | B27: Прочая дебиторская задолженность (1590)
A28: 160 | B28: Товарно-материальные запасы (1600) | C28: =C30+C31+C32+C33+C34 -> 0 | D28: =D30+D31+D32+D33+D34 -> 0 | E28: =E30+E31+E32+E33+E34 -> 0 | F28: =F30+F31+F32+F33+F34 -> 0
B29: в том числе:
A30: 161 | B30: Товары (1610, 1691)
A31: 162 | B31: Запасы сырья и основных материалов (1620)
A32: 163 | B32: Незавершенное производство (1630)
A33: 164 | B33: Готовая продукция (1640)
A34: 165 | B34: Сельхозпродукция с биологических активов (1650)
A35: 170 | B35: Запасы вспомогательных материалов (1700) | C35: =C37+C38+C39+C40+C41 -> 0 | D35: =D37+D38+D39+D40+D41 -> 0 | E35: =E37+E38+E39+E40+E41 -> 0 | F35: =F37+F38+F39+F40+F41 -> 0
B36: в том числе:
A37: 171 | B37: Топливо (1710)
A38: 172 | B38: Запасные части (1720)
A39: 173 | B39: Строительные материалы (1730)
A40: 174 | B40: Прочие материалы (1740)
...

Sheet ОПиУ
B1: =Заявка!D3 -> ОсОО "Наименование компании"
B2: ОТЧЕТ О ПРИБЫЛЯХ И УБЫТКАХ (тыс. сом)
A3: Код строк | B3: Наименование показателей | C3: =Баланс!C3 -> 44926 | D3: =Баланс!D3 -> 45291 | E3: =Баланс!E3 -> 45657 | F3: =Баланс!F3 -> 46022
B4: ОСНОВНАЯ ОПЕРАЦИОННАЯ ДЕЯТЕЛЬНОСТЬ
A5: 010 | B5: Выручка — основной доход от операционной деятельности или Прибыль/убыток от биологических активов
A6: 020 | B6: Себестоимость реализации товаров, услуг или Расходы по производству биологических активов
A7: 030 | B7: Валовая прибыль (010—020) | C7: =C5-C6 -> 0 | D7: =D5-D6 -> 0 | E7: =E5-E6 -> 0 | F7: =F5-F6 -> 0
B8: Доходы и расходы от прочей операционной деятельности:
A9: 040 | B9: Прочие доходы от операционной деятельности
A10: 050 | B10: Прочие расходы от операционной деятельности
A11: 060 | B11: Итого: доходы (расходы) от прочей операционной деятельности (040—050) | C11: =C9-C10 -> 0 | D11: =D9-D10 -> 0 | E11: =E9-E10 -> 0 | F11: =F9-F10 -> 0
B12: Операционные расходы периода:
A13: 070 | B13: Расходы по реализации
A14: 071 | B14: в т. ч. амортизация
A15: 080 | B15: Общие административные расходы
A16: 081 | B16: в т. ч. амортизация
A17: 090 | B17: Итого операционные расходы (070+080) | C17: =C13+C15 -> 0 | D17: =D13+D15 -> 0 | E17: =E13+E15 -> 0 | F17: =F13+F15 -> 0
A18: 100 | B18: Прибыль (убыток) от операционной деятельности (030 + 060—090) | C18: =C7+C11-C17 -> 0 | D18: =D7+D11-D17 -> 0 | E18: =E7+E11-E17 -> 0 | F18: =F7+F11-F17 -> 0
B19: Доходы и расходы от неоперационной деятельности:
A20: 110 | B20: Доходы от инвестиций
A21: 120 | B21: Расходы по процентам
A22: 130 | B22: Доходы (убытки) от курсовых разниц по операциям с иностранной валютой
A23: 140 | B23: Прочие неоперационные доходы и расходы
A24: 150 | B24: Итого доходы и расходы от неоперационной деятельности (110—120± 130+140) | C24: =C20-C21+C22+C23 -> 0 | D24: =D20-D21+D22+D23 -> 0 | E24: =E20-E21+E22+E23 -> 0 | F24: =F20-F21+F22+F23 -> 0
A25: 160 | B25: Прибыль (убыток) до вычета налогов (100+150) | C25: =C18+C24 -> 0 | D25: =D18+D24 -> 0 | E25: =E18+E24 -> 0 | F25: =F18+F24 -> 0
A26: 170 | B26: Расходы по налогу на прибыль
A27: 180 | B27: Прибыль (убыток) от обычной деятельности (160—170) | C27: =C25-C26 -> 0 | D27: =D25-D26 -> 0 | E27: =E25-E26 -> 0 | F27: =F25-F26 -> 0
A28: 190 | B28: Чрезвычайные статьи за минусом налога на прибыль
A29: 200 | B29: Чистая прибыль (убыток) отчетного периода (180+190) | C29: =C27+C28 -> 0 | D29: =D27+D28 -> 0 | E29: =E27+E28 -> 0 | F29: =F27+F28 -> 0
B31: =B1&" подтверждает, что предоставленная финансовая отчетность полностью и достоверно отражены." -> ОсОО "Наименование компании" подтверждает, что предоставленная финансовая отчетность полностью и достоверно отражены.
B33: =Баланс!B160 -> 0 | E33: =Баланс!E160 -> 46135.615
B34: ФИО руководителя, подпись, печать | E34: дата
B37: =Баланс!B164 -> 0 | E37: =E33 -> 46135.615
B38: ФИО бухгалтера, подпись | E38: дата

Sheet ОДДС
B1: =Заявка!D3 -> ОсОО "Наименование компании"
B2: ОТЧЕТ О ДВИЖЕНИИ ДЕНЕЖНЫХ СРЕДСТВ (тыс. сом)
A3: Код строк | B3: Движение денежных средств по видам деятельности | C3: =Баланс!C3 -> 44926 | D3: =Баланс!D3 -> 45291 | E3: =Баланс!E3 -> 45657 | F3: =Баланс!F3 -> 46022
B4: 1. Операционная деятельность
B5: Валовые поступления денежных средств от операционной деятельности:
A6: 010 | B6: Денежные средства от реализации продукции, работ, услуг
A7: 020 | B7: Прочие денежные поступления от операционной деятельности
A8: 030 | B8: Чрезвычайный доход в части операционной деятельности
A9: 040 | B9: Итого валовые поступления от операционной деятельности | C9: =SUM(C6:C8) -> 0 | D9: =SUM(D6:D8) -> 0 | E9: =SUM(E6:E8) -> 0 | F9: =SUM(F6:F8) -> 0
B10: Валовые платежи по операционной деятель-ности:
A11: 050 | B11: Денежные средства, выплаченные при закупке запасов
A12: 060 | B12: Оплаченные операционные расходы (услуги)
A13: 070 | B13: Погашение процентов (если данная статья классифицируется как операционная деятельность)
A14: 080 | B14: Прочие выплаты по операционной деятельности
A15: 090 | B15: Погашение налога на прибыль
A16: 100 | B16: Прочие выбытия денежных средств
A17: 110 | B17: Чрезвычайные убытки в части операционной деятельности
A18: 120 | B18: Итого валовые платежи по операционной деятельности | C18: =SUM(C11:C17) -> 0 | D18: =SUM(D11:D17) -> 0 | E18: =SUM(E11:E17) -> 0 | F18: =SUM(F11:F17) -> 0
A19: 190 | B19: Чистый поток денежных средств от операцион-ной деятельности | C19: =C9-C18 -> 0 | D19: =D9-D18 -> 0 | E19: =E9-E18 -> 0 | F19: =F9-F18 -> 0
B20: 2. Инвестиционная деятельность
B21: Валовые поступления денежных средств от инвестиционной деятельности:
A22: 210 | B22: Денежные средства, полученные от продажи основных средств
A23: 220 | B23: Денежные средства от реализации ценных бумаг
A24: 230 | B24: Денежные средства от реализации немате-риальных активов
A25: 240 | B25: Полученные проценты, дивиденды (если данная статья классифицируется как инвестиционная деятельность)
A26: 250 | B26: Погашение предоставленных денежных займов, облигаций к получению
A27: 260 | B27: Прочие поступления от инвестиционной деятельности
A28: 270 | B28: Итого валовые поступления от инвестиционной деятельности | C28: =SUM(C22:C27) -> 0 | D28: =SUM(D22:D27) -> 0 | E28: =SUM(E22:E27) -> 0 | F28: =SUM(F22:F27) -> 0
B29: Валовые платежи по инвестиционной деятельности:
A30: 280 | B30: Денежные средства, выплаченные при покупке основных средств
A31: 290 | B31: Денежные средства, выплаченные при приобретении нематериальных активов
A32: 300 | B32: Денежные средства, выплаченные при приобретении ценных бумаг
A33: 310 | B33: Предоставление денежных займов
A34: 320 | B34: Прочие выплаты от инвестиционной деятельности
A35: 330 | B35: Итого валовые платежи по инвестиционной деятельности | C35: =SUM(C30:C34) -> 0 | D35: =SUM(D30:D34) -> 0 | E35: =SUM(E30:E34) -> 0 | F35: =SUM(F30:F34) -> 0
A36: 390 | B36: Чистый поток денежных средств от инвестиционной деятельности | C36: =C28-C35 -> 0 | D36: =D28-D35 -> 0 | E36: =E28-E35 -> 0 | F36: =F28-F35 -> 0
B37: 3. Финансовая деятельность
B38: Валовые поступления денежных средств от финансовой деятельности:
A39: 410 | B39: Денежные средства, полученные от эмиссии акций
A40: 420 | B40: Денежные средства, полученные от эмиссии облигаций
...

Sheet Справочник
A2: Область | B2: Отрасль | C2: Вид фин-я | D2: Организационно-правовая форма
A3: Баткенская область | B3: Транспорт и складское хозяйство | C3: Лизинг | D3: Общество с ограниченной ответственностью
A4: г. Бишкек | B4: Энергетический сектор | C4: Инвестиционный кредит | D4: Открытое акционерное общество
A5: г. Ош | B5: Промышленность | C5: Проектное финансирование | D5: Закрытое акционерное общество
A6: Джалал-Абадская область | B6: Горнодобывающая промышленность и разработка карьеров | C6: Участие в капитале | D6: Государственное предприятие
A7: Нарынская область | B7: Здравоохранение и медицина | C7: Кредит на пополнение оборотного капитала | D7: Местное самоуправление
A8: Ошская область | B8: Агропромышленный комплекс | D8: Общество с дополнительной ответственностью
A9: Чуйская область | B9: Сфера услуг | D9: Крестьянское (фермерское) хозяйство (с образованием юридического лица)
A10: Иссык-Кульская область | B10: Текстильная промышленность | D10: Сельскохозяйственный кооператив
A11: Талаская область | B11: Инфраструктура городов и сел | D11: Кооператив как коммерческая организация
B12: Туризм | D12: Другая правовая форма
B13: Информация и связь
B14: Образование
A16: Настоящим
A17: как Клиент Узбекско-Кыргызского Фонда развития (УКФР), настоящим дает свое согласие на предоставление и/или получение уполномоченными сотрудниками УКФР любых сведений об
A18: (включая о руководителях, собственниках и связанных компаний) в/из Кредитного бюро, осуществляющее формирование кредитных историй и их обмен между финансово-кредитными учреждениями и иными юридическими/физическими лицами, в целях снижения рисков (в том числе кредитных), недопущения перезадолженности и упрощения процедуры рассмотрения и предоставления финансирования.
A20: К данным сведениям могут относиться сведения об
A21: (включая о руководителях, собственниках и связанных компаний), как Клиента Узбекско-Кыргызского Фонда развития, сведения по кредитам (вид кредита, сумма кредита, роль субъекта, дата подачи заявления, подробные сведения об истории выплат, непогашенный остаток, сумма дефолта и общая сумма долга по данному счету, сведения о поручителях/гарантах, залогодателях и других лиц, у которых образовались или имеются обязательства перед Поставщиками информации и др. сведения), полученным мною в Узбекско-Кыргызском Фонде развития, сведения о мерах, предпринятых в отношении об
A22: (включая о руководителях, собственниках и связанных компаний) в связи с неисполнением или ненадлежащим исполнением своих обязательств по кредитам и иные сведения, ставшие известными ФКУ в период рассмотрения и оформления документов, в процессе выдачи и погашения кредита.

Sheet Обязательства
A2: =Заявка!D3 -> ОсОО "Наименование компании"
A3: Информация о полученных кредитах и других обязательствах по состоянию на: | H3: =Баланс!F3 -> 46022
A4: Кредиты и иные обязательства
A5: Предоставьте, пожалуйста, информацию о кредитной истории Вашей компании, включая действующие займы, полученные у Кредиторов, включая займы от учредителя и связанных компаний, а также погашенные займы, закладные, облигации, подлежащие оплате. Приложите копии кредитных договоров и графики погашений.
A6: № | B6: Наименование кредитора | C6: Дата выдачи | D6: Дата полного погашения | E6: Сумма выданного кредита | F6: Валюта кредита | G6: Процентная ставка | H6: Текущий остаток долга | I6: Залог
A7: 1
A8: 2
A9: 3
A10: 4
A11: 5
A12: 6
A13: 7
A14: 8
A15: 9
A16: 10
A17: 11
A18: 12
... A36: 30
B37: ИТОГО | C37: Х | D37: Х | E37: Х | F37: Х | G37: Х | H37: =SUM(H7:H36) -> 0 | I37: Х
E40: =Баланс!E160 -> 46135.615
B41: ФИО руководителя, подпись, печать | E41: дата
E44: =E40 -> 46135.615
B45: ФИО бухгалтера, подпись | E45: дата
B100: KG Som
B101: US Dollar
B102: TJ Somoni
B103: KZ Tenge
B104: EURO

Sheet Расшифровка
B2: ="Дебиторская задолженность по состоянию на "&TEXT(Баланс!F3,"ДД.ММ.ГГГГ") -> Дебиторская задолженность по состоянию на 31.12.2025
A3: 1 | B3: Счета к получению (1400)
B4: Укажите всех дебиторов. Сумма задолженности перед Вами должна соответствовать общей сумме, отраженной в балансе.
A5: № | B5: дата возникновения | C5: дата к полученю | D5: сумма, тыс. сом | E5: наименование дебитора | F5: Цель
A6: 1
A7: 2
A8: 3
A9: 4
A10: 5
B11: Итого | D11: =SUM(D6:D10) -> 0
A14: 2 | B14: Дебиторская задолженность по прочим операциям (1500)
B15: Укажите всех дебиторов. Сумма задолженности перед Вами должна соответствовать общей сумме, отраженной в балансе.
A16: № | B16: дата возникновения | C16: дата к полученю | D16: сумма, тыс. сом | E16: наименование дебитора | F16: Цель
A17: 1
A18: 2
A19: 3
A20: 4
A21: 5
B22: Итого | D22: =SUM(D17:D21) -> 0
A25: 3 | B25: Авансы выданные (1800)
B26: Укажите всех дебиторов. Сумма задолженности перед Вами должна соответствовать общей сумме, отраженной в балансе.
A27: № | B27: дата возникновения | C27: дата к полученю | D27: сумма | E27: наименование дебитора | F27: Цель
A28: 1
A29: 2
A30: 3
A31: 4
A32: 5
B33: Итого | D33: =SUM(D28:D32) -> 0
B36: ="Кредиторская задолженность по состоянию на "&TEXT(Баланс!F3,"ДД.ММ.ГГГГ") -> Кредиторская задолженность по состоянию на 31.12.2025
A37: 1 | B37: Долгосрочные и краткосрочные долговые обязательства
B38: Укажите всех кредиторов. Сумма задолженности перед ними должна соответствовать общей сумме, отраженной в балансе.
A39: № | B39: дата возникновения | C39: дата к погашению | D39: сумма, тыс. сом | E39: наименование кредитора | F39: Цель
A40: 1
A41: 2
A42: 3
A43: 4
A44: 5
B45: Итого | D45: =SUM(D40:D44) -> 0
A48: 2 | B48: Счета к оплате (3100)
B49: Укажите всех кредиторов. Сумма задолженности перед ними должна соответствовать общей сумме, отраженной в балансе.
...

Sheet Расшифровка ТМЗ
A1: 1 | B1: ="Товарно-материальные запасы (1600) по состоянию на "&TEXT(Баланс!F3,"ДД.ММ.ГГГГ") -> Товарно-материальные запасы (1600) по состоянию на 31.12.2025
A2: № | B2: Наименование ТМЗ | C2: ед. измерения | D2: кол-во | E2: сумма, тыс. сом | F2: примечания
A3: 1
A4: =+A3+1 -> 2
A5: =+A4+1 -> 3
A6: =+A5+1 -> 4
A7: =+A6+1 -> 5
A8: =+A7+1 -> 6
A9: =+A8+1 -> 7
A10: =+A9+1 -> 8
A11: =+A10+1 -> 9
A12: =+A11+1 -> 10
B13: Итого | E13: =SUM(E3:E12) -> 0
A16: 1 | B16: ="Запасы вспомогательных материалов (1700) по состоянию на "&TEXT(Баланс!F3,"ДД.ММ.ГГГГ") -> Запасы вспомогательных материалов (1700) по состоянию на 31.12.2025
A17: № | B17: Наименование ТМЗ | C17: ед. измерения | D17: кол-во | E17: сумма, тыс. сом | F17: примечания
A18: 1
A19: =+A18+1 -> 2
A20: =+A19+1 -> 3
A21: =+A20+1 -> 4
A22: =+A21+1 -> 5
A23: =+A22+1 -> 6
A24: =+A23+1 -> 7
A25: =+A24+1 -> 8
A26: =+A25+1 -> 9
A27: =+A26+1 -> 10
B28: Итого | E28: =SUM(E18:E27) -> 0

Sheet Расшифровка выручки
B1: Расшифровка реализации
A2: № | B2: Наименование продукции/услуг | C2: =Баланс!C3 -> 44926 | G2: =Баланс!D3 -> 45291 | K2: =Баланс!E3 -> 45657 | O2: =Баланс!F3 -> 46022
C3: ед. изм-я | D3: кол-во | E3: себестоимость продукции, тыс. сом | F3: сумма реализации, тыс. сом | G3: ед. изм-я | H3: кол-во | I3: себестоимость продукции, тыс. сом | J3: сумма реализации, тыс. сом | K3: ед. изм-я | L3: кол-во | M3: себестоимость продукции, тыс. сом | N3: сумма реализации, тыс. сом | O3: ед. изм-я | P3: кол-во | Q3: себестоимость продукции, тыс. сом | R3: сумма реализации, тыс. сом
A4: 1
A5: =A4+1 -> 2
A6: =A5+1 -> 3
A7: =A6+1 -> 4
A8: =A7+1 -> 5
A9: =A8+1 -> 6
A10: =A9+1 -> 7
A11: =A10+1 -> 8
A12: =A11+1 -> 9
A13: =A12+1 -> 10
A14: =A13+1 -> 11
A15: =A14+1 -> 12
A16: =A15+1 -> 13
A17: =A16+1 -> 14
B18: Итого | E18: =SUM(E4:E17) -> 0 | F18: =SUM(F4:F17) -> 0 | I18: =SUM(I4:I17) -> 0 | J18: =SUM(J4:J17) -> 0 | M18: =SUM(M4:M17) -> 0 | N18: =SUM(N4:N17) -> 0 | Q18: =SUM(Q4:Q17) -> 0 | R18: =SUM(R4:R17) -> 0

Sheet Перечень документов
B1: ПЕРЕЧЕНЬ ДОКУМЕНТОВ, ПРЕДСТАВЛЯЕМЫХ В СОСТАВЕ ИНВЕСТИЦИОННОЙ ЗАЯВКИ
A2: 1 | B2: Заверенная копия учредительных документов Компании в действующей редакции со всеми изменениями и дополнениями (при наличии).
A3: 2 | B3: Документы, подтверждающие полномочия должностных лиц Компании: копия протокола/решения об избрании/назначении лица, имеющего право заключать сделки от имени Компании без доверенности, либо копия доверенности, заверенная Компанией, оригинал банковской карточки с образцами подписей и оттиском печати.
A4: 3 | B4: Заверенные копии свидетельства о государственной регистрации Компании в качестве юридического лица.
A5: 4 | B5: Сведения о постановке на учет в налоговом органе по месту нахождения юридического лица (заверенная копия), сведения из налогового органа о наличии/отсутствии задолженности по налогам, сборам и другим обязательным платежам (копия).
A6: 5 | B6: Сведения о постановке на учет в органе Социального Фонда по месту нахождения юридического лица (заверенная копия), сведения из органа Социального Фонда о наличии/отсутствии задолженности по социальным отчислениям и другим обязательным платежам (копия).
A7: 6 | B7: Выписка из реестра акционеров/участников Компании на текущую дату, при наличии
A8: 7 | B8: Копии паспортов учредителей/ основных акционеров/ руководителей Компании.
A9: 8 | B9: Резюме/ копии паспортов ключевого персонала Компании.
A10: 9 | B10: Выписка с банковского счета за последние 2 года в электронном формате
A11: 10 | B11: Лицензии (нотариально заверенные копии) на осуществление лицензируемых видов деятельности либо письмо об отсутствии лицензируемых видов деятельности (оригинал).
A12: 11 | B12: Копии кредитных договоров с договорами залога и графиком погашения
A13: 12 | B13: Отчет по кредитной истории (КИБ) по инициатору и основным учредителям
... A15: 14 | B15: Бизнес план с расчетами (в бумажном и электронном формате)
